BEGIN:VCALENDAR
VERSION:2.0
PRODID:-//horsealert.local//NONSGML kigkonsult.se iCalcreator 2.10.5//
CALSCALE:GREGORIAN
X-WR-TIMEZONE:Europe/Dublin
BEGIN:VTIMEZONE
TZID:Etc/GMT-1
BEGIN:STANDARD
DTSTART:20010101T000000
TZOFFSETFROM:+0100
TZOFFSETTO:+0100
TZNAME:GMT +01:00
END:STANDARD
END:VTIMEZONE
BEGIN:VEVENT
UID:20260422T133258CEST-2238ouLvwk@horsealert.local
DTSTAMP:20260422T110458Z
CATEGORIES:Horse Alerts
DESCRIPTION:188bet.co.uk British Stallion Studs EBF Maiden Fillies' Stakes 
 (Str) (Plus 10)
DTSTART:20161021T140000
LOCATION:England
SUMMARY:Horse Racing:188bet.co.uk British Stallion Studs EBF Maiden Fillies
 ' Stakes (Str) (Plus 10)
END:VEVENT
END:VCALENDAR
