BEGIN:VCALENDAR
VERSION:2.0
PRODID:-//horsealert.local//NONSGML kigkonsult.se iCalcreator 2.10.5//
CALSCALE:GREGORIAN
X-WR-TIMEZONE:Europe/Dublin
BEGIN:VTIMEZONE
TZID:Etc/GMT-1
BEGIN:STANDARD
DTSTART:20010101T000000
TZOFFSETFROM:+0100
TZOFFSETTO:+0100
TZNAME:GMT +01:00
END:STANDARD
END:VTIMEZONE
BEGIN:VEVENT
UID:20260422T133804CEST-7561Bz47CL@horsealert.local
DTSTAMP:20260422T110404Z
CATEGORIES:Horse Alerts
DESCRIPTION:Join The Hot To Trot Syndicate EBF Stallions Maiden Stakes (Plu
 s 10)
DTSTART:20161021T135000
LOCATION:England
SUMMARY:Horse Racing:Join The Hot To Trot Syndicate EBF Stallions Maiden St
 akes (Plus 10)
END:VEVENT
END:VCALENDAR
