BEGIN:VCALENDAR
VERSION:2.0
PRODID:-//horsealert.local//NONSGML kigkonsult.se iCalcreator 2.10.5//
CALSCALE:GREGORIAN
X-WR-TIMEZONE:Europe/Dublin
BEGIN:VTIMEZONE
TZID:Etc/GMT-1
BEGIN:STANDARD
DTSTART:20010101T000000
TZOFFSETFROM:+0100
TZOFFSETTO:+0100
TZNAME:GMT +01:00
END:STANDARD
END:VTIMEZONE
BEGIN:VEVENT
UID:20260422T133254CEST-4145GiamlX@horsealert.local
DTSTAMP:20260422T110454Z
CATEGORIES:Horse Alerts
DESCRIPTION:Kyle Family Josh Gifford Memorial Handicap Chase (For The Josh 
 Gifford Memorial Trophy)
DTSTART:20161017T150000
LOCATION:England
SUMMARY:Horse Racing:Kyle Family Josh Gifford Memorial Handicap Chase (For 
 The Josh Gifford Memorial Trophy)
END:VEVENT
END:VCALENDAR
