BEGIN:VCALENDAR
VERSION:2.0
PRODID:-//horsealert.local//NONSGML kigkonsult.se iCalcreator 2.10.5//
CALSCALE:GREGORIAN
X-WR-TIMEZONE:Europe/Dublin
BEGIN:VTIMEZONE
TZID:Etc/GMT-1
BEGIN:STANDARD
DTSTART:20010101T000000
TZOFFSETFROM:+0100
TZOFFSETTO:+0100
TZNAME:GMT +01:00
END:STANDARD
END:VTIMEZONE
BEGIN:VEVENT
UID:20260422T133806CEST-9462FSSSIl@horsealert.local
DTSTAMP:20260422T110406Z
CATEGORIES:Horse Alerts
DESCRIPTION:Casim.delamarre Listed Stakes
DTSTART:20161016T151500
LOCATION:France
SUMMARY:Horse Racing:Casim.delamarre Listed Stakes
END:VEVENT
END:VCALENDAR
