BEGIN:VCALENDAR
VERSION:2.0
PRODID:-//horsealert.local//NONSGML kigkonsult.se iCalcreator 2.10.5//
CALSCALE:GREGORIAN
X-WR-TIMEZONE:Europe/Dublin
BEGIN:VTIMEZONE
TZID:Etc/GMT-1
BEGIN:STANDARD
DTSTART:20010101T000000
TZOFFSETFROM:+0100
TZOFFSETTO:+0100
TZNAME:GMT +01:00
END:STANDARD
END:VTIMEZONE
BEGIN:VEVENT
UID:20260422T133254CEST-65790R57Fj@horsealert.local
DTSTAMP:20260422T110454Z
CATEGORIES:Horse Alerts
DESCRIPTION:Spire Brewing Company - Chesterfield\, Dark Side Maiden Hurdle
DTSTART:20161015T133500
LOCATION:England
SUMMARY:Horse Racing:Spire Brewing Company - Chesterfield\, Dark Side Maide
 n Hurdle
END:VEVENT
END:VCALENDAR
