BEGIN:VCALENDAR
VERSION:2.0
PRODID:-//horsealert.local//NONSGML kigkonsult.se iCalcreator 2.10.5//
CALSCALE:GREGORIAN
X-WR-TIMEZONE:Europe/Dublin
BEGIN:VTIMEZONE
TZID:Etc/GMT-1
BEGIN:STANDARD
DTSTART:20010101T000000
TZOFFSETFROM:+0100
TZOFFSETTO:+0100
TZNAME:GMT +01:00
END:STANDARD
END:VTIMEZONE
BEGIN:VEVENT
UID:20260422T133445CEST-5210sbbgV7@horsealert.local
DTSTAMP:20260422T110445Z
CATEGORIES:Horse Alerts
DESCRIPTION:Haemavite B Plus By Equine Products UK Ltd Maiden Stakes
DTSTART:20161016T162500
LOCATION:England
SUMMARY:Horse Racing:Haemavite B Plus By Equine Products UK Ltd Maiden Stak
 es
END:VEVENT
END:VCALENDAR
