BEGIN:VCALENDAR
VERSION:2.0
PRODID:-//horsealert.local//NONSGML kigkonsult.se iCalcreator 2.10.5//
CALSCALE:GREGORIAN
X-WR-TIMEZONE:Europe/Dublin
BEGIN:VTIMEZONE
TZID:Etc/GMT-1
BEGIN:STANDARD
DTSTART:20010101T000000
TZOFFSETFROM:+0100
TZOFFSETTO:+0100
TZNAME:GMT +01:00
END:STANDARD
END:VTIMEZONE
BEGIN:VEVENT
UID:20260422T133608CEST-8171f0x1cD@horsealert.local
DTSTAMP:20260422T110408Z
CATEGORIES:Horse Alerts
DESCRIPTION:Crowne Plaza Leading Jockey & Trainer Championship Handicap (45
 -65) (Div 1)
DTSTART:20161014T203500
LOCATION:Eire
SUMMARY:Horse Racing:Crowne Plaza Leading Jockey & Trainer Championship Han
 dicap (45-65) (Div 1)
END:VEVENT
END:VCALENDAR
