BEGIN:VCALENDAR
VERSION:2.0
PRODID:-//horsealert.local//NONSGML kigkonsult.se iCalcreator 2.10.5//
CALSCALE:GREGORIAN
X-WR-TIMEZONE:Europe/Dublin
BEGIN:VTIMEZONE
TZID:Etc/GMT-1
BEGIN:STANDARD
DTSTART:20010101T000000
TZOFFSETFROM:+0100
TZOFFSETTO:+0100
TZNAME:GMT +01:00
END:STANDARD
END:VTIMEZONE
BEGIN:VEVENT
UID:20260422T133619CEST-874760Sd70@horsealert.local
DTSTAMP:20260422T110419Z
CATEGORIES:Horse Alerts
DESCRIPTION:Irish Stallion Farms European Breeders Fund Fillies Median Auct
 ion Maiden (Plus 10)
DTSTART:20161014T180000
LOCATION:Eire
SUMMARY:Horse Racing:Irish Stallion Farms European Breeders Fund Fillies Me
 dian Auction Maiden (Plus 10)
END:VEVENT
END:VCALENDAR
