BEGIN:VCALENDAR
VERSION:2.0
PRODID:-//horsealert.local//NONSGML kigkonsult.se iCalcreator 2.10.5//
CALSCALE:GREGORIAN
X-WR-TIMEZONE:Europe/Dublin
BEGIN:VTIMEZONE
TZID:Etc/GMT-1
BEGIN:STANDARD
DTSTART:20010101T000000
TZOFFSETFROM:+0100
TZOFFSETTO:+0100
TZNAME:GMT +01:00
END:STANDARD
END:VTIMEZONE
BEGIN:VEVENT
UID:20260422T133245CEST-4663BsRGGz@horsealert.local
DTSTAMP:20260422T110445Z
CATEGORIES:Horse Alerts
DESCRIPTION:Corepeople Cup Maiden Auction Stakes
DTSTART:20161014T212000
LOCATION:England
SUMMARY:Horse Racing:Corepeople Cup Maiden Auction Stakes
END:VEVENT
END:VCALENDAR
