BEGIN:VCALENDAR
VERSION:2.0
PRODID:-//horsealert.local//NONSGML kigkonsult.se iCalcreator 2.10.5//
CALSCALE:GREGORIAN
X-WR-TIMEZONE:Europe/Dublin
BEGIN:VTIMEZONE
TZID:Etc/GMT-1
BEGIN:STANDARD
DTSTART:20010101T000000
TZOFFSETFROM:+0100
TZOFFSETTO:+0100
TZNAME:GMT +01:00
END:STANDARD
END:VTIMEZONE
BEGIN:VEVENT
UID:20260422T133634CEST-8357G3RAsv@horsealert.local
DTSTAMP:20260422T110434Z
CATEGORIES:Horse Alerts
DESCRIPTION:Coral.ie Exclusive Stable Talk With Dan Skelton Handicap Hurdle
  (80-102)
DTSTART:20161012T155500
LOCATION:Eire
SUMMARY:Horse Racing:Coral.ie Exclusive Stable Talk With Dan Skelton Handic
 ap Hurdle (80-102)
END:VEVENT
END:VCALENDAR
