BEGIN:VCALENDAR
VERSION:2.0
PRODID:-//horsealert.local//NONSGML kigkonsult.se iCalcreator 2.10.5//
CALSCALE:GREGORIAN
X-WR-TIMEZONE:Europe/Dublin
BEGIN:VTIMEZONE
TZID:Etc/GMT-1
BEGIN:STANDARD
DTSTART:20010101T000000
TZOFFSETFROM:+0100
TZOFFSETTO:+0100
TZNAME:GMT +01:00
END:STANDARD
END:VTIMEZONE
BEGIN:VEVENT
UID:20260422T133453CEST-6046Nc1jKH@horsealert.local
DTSTAMP:20260422T110453Z
CATEGORIES:Horse Alerts
DESCRIPTION:NTM Russia Handicap
DTSTART:20161011T211500
LOCATION:England
SUMMARY:Horse Racing:NTM Russia Handicap
END:VEVENT
END:VCALENDAR
