BEGIN:VCALENDAR
VERSION:2.0
PRODID:-//horsealert.local//NONSGML kigkonsult.se iCalcreator 2.10.5//
CALSCALE:GREGORIAN
X-WR-TIMEZONE:Europe/Dublin
BEGIN:VTIMEZONE
TZID:Etc/GMT-1
BEGIN:STANDARD
DTSTART:20010101T000000
TZOFFSETFROM:+0100
TZOFFSETTO:+0100
TZNAME:GMT +01:00
END:STANDARD
END:VTIMEZONE
BEGIN:VEVENT
UID:20260422T133906CEST-83374z3Rvr@horsealert.local
DTSTAMP:20260422T110406Z
CATEGORIES:Horse Alerts
DESCRIPTION:Bobbyjo Bistro Great Value Food Maiden Hurdle
DTSTART:20161008T143000
LOCATION:Eire
SUMMARY:Horse Racing:Bobbyjo Bistro Great Value Food Maiden Hurdle
END:VEVENT
END:VCALENDAR
