BEGIN:VCALENDAR
VERSION:2.0
PRODID:-//horsealert.local//NONSGML kigkonsult.se iCalcreator 2.10.5//
CALSCALE:GREGORIAN
X-WR-TIMEZONE:Europe/Dublin
BEGIN:VTIMEZONE
TZID:Etc/GMT-1
BEGIN:STANDARD
DTSTART:20010101T000000
TZOFFSETFROM:+0100
TZOFFSETTO:+0100
TZNAME:GMT +01:00
END:STANDARD
END:VTIMEZONE
BEGIN:VEVENT
UID:20260422T134036CEST-6956L2N8tw@horsealert.local
DTSTAMP:20260422T110436Z
CATEGORIES:Horse Alerts
DESCRIPTION:Eve Trakway Alderbrook Stakes (Handicap) (To Be Ridden By Profe
 ssional National Hunt Jockeys)
DTSTART:20161009T140000
LOCATION:England
SUMMARY:Horse Racing:Eve Trakway Alderbrook Stakes (Handicap) (To Be Ridden
  By Professional National Hunt Jockeys)
END:VEVENT
END:VCALENDAR
