BEGIN:VCALENDAR
VERSION:2.0
PRODID:-//horsealert.local//NONSGML kigkonsult.se iCalcreator 2.10.5//
CALSCALE:GREGORIAN
X-WR-TIMEZONE:Europe/Dublin
BEGIN:VTIMEZONE
TZID:Etc/GMT-1
BEGIN:STANDARD
DTSTART:20010101T000000
TZOFFSETFROM:+0100
TZOFFSETTO:+0100
TZNAME:GMT +01:00
END:STANDARD
END:VTIMEZONE
BEGIN:VEVENT
UID:20260422T133247CEST-1032pxKeZa@horsealert.local
DTSTAMP:20260422T110447Z
CATEGORIES:Horse Alerts
DESCRIPTION:Racing Again October 8th And 9th Maiden
DTSTART:20161003T173500
LOCATION:Eire
SUMMARY:Horse Racing:Racing Again October 8th And 9th Maiden
END:VEVENT
END:VCALENDAR
