BEGIN:VCALENDAR
VERSION:2.0
PRODID:-//horsealert.local//NONSGML kigkonsult.se iCalcreator 2.10.5//
CALSCALE:GREGORIAN
X-WR-TIMEZONE:Europe/Dublin
BEGIN:VTIMEZONE
TZID:Etc/GMT-1
BEGIN:STANDARD
DTSTART:20010101T000000
TZOFFSETFROM:+0100
TZOFFSETTO:+0100
TZNAME:GMT +01:00
END:STANDARD
END:VTIMEZONE
BEGIN:VEVENT
UID:20260422T133247CEST-8796WWi51n@horsealert.local
DTSTAMP:20260422T110447Z
CATEGORIES:Horse Alerts
DESCRIPTION:Irish Stallion Farms E.B.F. Median Auction (C & G) Maiden (Plus
  10)
DTSTART:20161003T143500
LOCATION:Eire
SUMMARY:Horse Racing:Irish Stallion Farms E.B.F. Median Auction (C & G) Mai
 den (Plus 10)
END:VEVENT
END:VCALENDAR
