BEGIN:VCALENDAR
VERSION:2.0
PRODID:-//horsealert.local//NONSGML kigkonsult.se iCalcreator 2.10.5//
CALSCALE:GREGORIAN
X-WR-TIMEZONE:Europe/Dublin
BEGIN:VTIMEZONE
TZID:Etc/GMT-1
BEGIN:STANDARD
DTSTART:20010101T000000
TZOFFSETFROM:+0100
TZOFFSETTO:+0100
TZNAME:GMT +01:00
END:STANDARD
END:VTIMEZONE
BEGIN:VEVENT
UID:20260422T133441CEST-48085rUvbT@horsealert.local
DTSTAMP:20260422T110441Z
CATEGORIES:Horse Alerts
DESCRIPTION:totescoop6 EBF Stallions Guisborough Stakes (Listed)
DTSTART:20161001T155000
LOCATION:England
SUMMARY:Horse Racing:totescoop6 EBF Stallions Guisborough Stakes (Listed)
END:VEVENT
END:VCALENDAR
