BEGIN:VCALENDAR
VERSION:2.0
PRODID:-//horsealert.local//NONSGML kigkonsult.se iCalcreator 2.10.5//
CALSCALE:GREGORIAN
X-WR-TIMEZONE:Europe/Dublin
BEGIN:VTIMEZONE
TZID:Etc/GMT-1
BEGIN:STANDARD
DTSTART:20010101T000000
TZOFFSETFROM:+0100
TZOFFSETTO:+0100
TZNAME:GMT +01:00
END:STANDARD
END:VTIMEZONE
BEGIN:VEVENT
UID:20260422T150407CEST-7995W0vJTv@horsealert.local
DTSTAMP:20260422T130407Z
CATEGORIES:Horse Alerts
DESCRIPTION:Track Your Favourite Horse On The Paddy Power Messenger Betting
  App Handicap (45-65) (Div 2)
DTSTART:20160930T210500
LOCATION:Eire
SUMMARY:Horse Racing:Track Your Favourite Horse On The Paddy Power Messenge
 r Betting App Handicap (45-65) (Div 2)
END:VEVENT
END:VCALENDAR
