BEGIN:VCALENDAR
VERSION:2.0
PRODID:-//horsealert.local//NONSGML kigkonsult.se iCalcreator 2.10.5//
CALSCALE:GREGORIAN
X-WR-TIMEZONE:Europe/Dublin
BEGIN:VTIMEZONE
TZID:Etc/GMT-1
BEGIN:STANDARD
DTSTART:20010101T000000
TZOFFSETFROM:+0100
TZOFFSETTO:+0100
TZNAME:GMT +01:00
END:STANDARD
END:VTIMEZONE
BEGIN:VEVENT
UID:20260422T150236CEST-7117s5PC01@horsealert.local
DTSTAMP:20260422T130436Z
CATEGORIES:Horse Alerts
DESCRIPTION:Paddy Power Phone Betting 24/7 On 1800 721 821 Handicap (70-100
 )
DTSTART:20160930T200500
LOCATION:Eire
SUMMARY:Horse Racing:Paddy Power Phone Betting 24/7 On 1800 721 821 Handica
 p (70-100)
END:VEVENT
END:VCALENDAR
