BEGIN:VCALENDAR
VERSION:2.0
PRODID:-//horsealert.local//NONSGML kigkonsult.se iCalcreator 2.10.5//
CALSCALE:GREGORIAN
X-WR-TIMEZONE:Europe/Dublin
BEGIN:VTIMEZONE
TZID:Etc/GMT-1
BEGIN:STANDARD
DTSTART:20010101T000000
TZOFFSETFROM:+0100
TZOFFSETTO:+0100
TZNAME:GMT +01:00
END:STANDARD
END:VTIMEZONE
BEGIN:VEVENT
UID:20260422T150230CEST-1024nXDG2Z@horsealert.local
DTSTAMP:20260422T130430Z
CATEGORIES:Horse Alerts
DESCRIPTION:Call Paddy Power For Free On 1800 721 821 Apprentice Handicap (
 50-70)
DTSTART:20160930T172500
LOCATION:Eire
SUMMARY:Horse Racing:Call Paddy Power For Free On 1800 721 821 Apprentice H
 andicap (50-70)
END:VEVENT
END:VCALENDAR
