BEGIN:VCALENDAR
VERSION:2.0
PRODID:-//horsealert.local//NONSGML kigkonsult.se iCalcreator 2.10.5//
CALSCALE:GREGORIAN
X-WR-TIMEZONE:Europe/Dublin
BEGIN:VTIMEZONE
TZID:Etc/GMT-1
BEGIN:STANDARD
DTSTART:20010101T000000
TZOFFSETFROM:+0100
TZOFFSETTO:+0100
TZNAME:GMT +01:00
END:STANDARD
END:VTIMEZONE
BEGIN:VEVENT
UID:20260422T150856CEST-47945xU104@horsealert.local
DTSTAMP:20260422T130456Z
CATEGORIES:Horse Alerts
DESCRIPTION:Irish Stallion Farms E.B.F. Captain Christy Rated Novice Chase
DTSTART:20160929T160500
LOCATION:Eire
SUMMARY:Horse Racing:Irish Stallion Farms E.B.F. Captain Christy Rated Novi
 ce Chase
END:VEVENT
END:VCALENDAR
