BEGIN:VCALENDAR
VERSION:2.0
PRODID:-//horsealert.local//NONSGML kigkonsult.se iCalcreator 2.10.5//
CALSCALE:GREGORIAN
X-WR-TIMEZONE:Europe/Dublin
BEGIN:VTIMEZONE
TZID:Etc/GMT-1
BEGIN:STANDARD
DTSTART:20010101T000000
TZOFFSETFROM:+0100
TZOFFSETTO:+0100
TZNAME:GMT +01:00
END:STANDARD
END:VTIMEZONE
BEGIN:VEVENT
UID:20260422T150407CEST-8375RXb9v3@horsealert.local
DTSTAMP:20260422T130407Z
CATEGORIES:Horse Alerts
DESCRIPTION:Galliard Homes Willow Foundation EBF Stallions Classified Stake
 s (Str)
DTSTART:20160930T143500
LOCATION:England
SUMMARY:Horse Racing:Galliard Homes Willow Foundation EBF Stallions Classif
 ied Stakes (Str)
END:VEVENT
END:VCALENDAR
