BEGIN:VCALENDAR
VERSION:2.0
PRODID:-//horsealert.local//NONSGML kigkonsult.se iCalcreator 2.10.5//
CALSCALE:GREGORIAN
X-WR-TIMEZONE:Europe/Dublin
BEGIN:VTIMEZONE
TZID:Etc/GMT-1
BEGIN:STANDARD
DTSTART:20010101T000000
TZOFFSETFROM:+0100
TZOFFSETTO:+0100
TZNAME:GMT +01:00
END:STANDARD
END:VTIMEZONE
BEGIN:VEVENT
UID:20260422T150543CEST-6796C6juHa@horsealert.local
DTSTAMP:20260422T130443Z
CATEGORIES:Horse Alerts
DESCRIPTION:Why Not Sponsor A Race At Sligo Races In 2017 Handicap Chase (0
 -109)
DTSTART:20160928T171500
LOCATION:Eire
SUMMARY:Horse Racing:Why Not Sponsor A Race At Sligo Races In 2017 Handicap
  Chase (0-109)
END:VEVENT
END:VCALENDAR
