BEGIN:VCALENDAR
VERSION:2.0
PRODID:-//horsealert.local//NONSGML kigkonsult.se iCalcreator 2.10.5//
CALSCALE:GREGORIAN
X-WR-TIMEZONE:Europe/Dublin
BEGIN:VTIMEZONE
TZID:Etc/GMT-1
BEGIN:STANDARD
DTSTART:20010101T000000
TZOFFSETFROM:+0100
TZOFFSETTO:+0100
TZNAME:GMT +01:00
END:STANDARD
END:VTIMEZONE
BEGIN:VEVENT
UID:20260422T150537CEST-7141LEZ0GO@horsealert.local
DTSTAMP:20260422T130437Z
CATEGORIES:Horse Alerts
DESCRIPTION:KFE 20th Anniversary Celebration Handicap (Jockey Club Grassroo
 ts Sprint Series Final)
DTSTART:20160928T164000
LOCATION:England
SUMMARY:Horse Racing:KFE 20th Anniversary Celebration Handicap (Jockey Club
  Grassroots Sprint Series Final)
END:VEVENT
END:VCALENDAR
