BEGIN:VCALENDAR
VERSION:2.0
PRODID:-//horsealert.local//NONSGML kigkonsult.se iCalcreator 2.10.5//
CALSCALE:GREGORIAN
X-WR-TIMEZONE:Europe/Dublin
BEGIN:VTIMEZONE
TZID:Etc/GMT-1
BEGIN:STANDARD
DTSTART:20010101T000000
TZOFFSETFROM:+0100
TZOFFSETTO:+0100
TZNAME:GMT +01:00
END:STANDARD
END:VTIMEZONE
BEGIN:VEVENT
UID:20260422T150752CEST-82460NmjN5@horsealert.local
DTSTAMP:20260422T130452Z
CATEGORIES:Horse Alerts
DESCRIPTION:Next Racing At Fairyhouse The Return Of The Jumps October 8th M
 aiden
DTSTART:20160927T163000
LOCATION:Eire
SUMMARY:Horse Racing:Next Racing At Fairyhouse The Return Of The Jumps Octo
 ber 8th Maiden
END:VEVENT
END:VCALENDAR
