BEGIN:VCALENDAR
VERSION:2.0
PRODID:-//horsealert.local//NONSGML kigkonsult.se iCalcreator 2.10.5//
CALSCALE:GREGORIAN
X-WR-TIMEZONE:Europe/Dublin
BEGIN:VTIMEZONE
TZID:Etc/GMT-1
BEGIN:STANDARD
DTSTART:20010101T000000
TZOFFSETFROM:+0100
TZOFFSETTO:+0100
TZNAME:GMT +01:00
END:STANDARD
END:VTIMEZONE
BEGIN:VEVENT
UID:20260422T150943CEST-1180V7MbCl@horsealert.local
DTSTAMP:20260422T130443Z
CATEGORIES:Horse Alerts
DESCRIPTION:Manguard Plus Amateur Riders Derby (Q.R.) Handicap (50-85)
DTSTART:20160925T155500
LOCATION:Eire
SUMMARY:Horse Racing:Manguard Plus Amateur Riders Derby (Q.R.) Handicap (50
 -85)
END:VEVENT
END:VCALENDAR
