BEGIN:VCALENDAR
VERSION:2.0
PRODID:-//horsealert.local//NONSGML kigkonsult.se iCalcreator 2.10.5//
CALSCALE:GREGORIAN
X-WR-TIMEZONE:Europe/Dublin
BEGIN:VTIMEZONE
TZID:Etc/GMT-1
BEGIN:STANDARD
DTSTART:20010101T000000
TZOFFSETFROM:+0100
TZOFFSETTO:+0100
TZNAME:GMT +01:00
END:STANDARD
END:VTIMEZONE
BEGIN:VEVENT
UID:20260422T150723CEST-82935a7XC3@horsealert.local
DTSTAMP:20260422T130423Z
CATEGORIES:Horse Alerts
DESCRIPTION:Buy Solar Powered Security Floodlights At greenlighting.co.uk S
 elling Hurdle
DTSTART:20160923T160500
LOCATION:England
SUMMARY:Horse Racing:Buy Solar Powered Security Floodlights At greenlightin
 g.co.uk Selling Hurdle
END:VEVENT
END:VCALENDAR
