BEGIN:VCALENDAR
VERSION:2.0
PRODID:-//horsealert.local//NONSGML kigkonsult.se iCalcreator 2.10.5//
CALSCALE:GREGORIAN
X-WR-TIMEZONE:Europe/Dublin
BEGIN:VTIMEZONE
TZID:Etc/GMT-1
BEGIN:STANDARD
DTSTART:20010101T000000
TZOFFSETFROM:+0100
TZOFFSETTO:+0100
TZNAME:GMT +01:00
END:STANDARD
END:VTIMEZONE
BEGIN:VEVENT
UID:20260422T151043CEST-1466RprW08@horsealert.local
DTSTAMP:20260422T130443Z
CATEGORIES:Horse Alerts
DESCRIPTION:jasonhallracing.co.uk 'Sharing Success' Novices' Hurdle
DTSTART:20160918T140000
LOCATION:England
SUMMARY:Horse Racing:jasonhallracing.co.uk 'Sharing Success' Novices' Hurdl
 e
END:VEVENT
END:VCALENDAR
