BEGIN:VCALENDAR
VERSION:2.0
PRODID:-//horsealert.local//NONSGML kigkonsult.se iCalcreator 2.10.5//
CALSCALE:GREGORIAN
X-WR-TIMEZONE:Europe/Dublin
BEGIN:VTIMEZONE
TZID:Etc/GMT-1
BEGIN:STANDARD
DTSTART:20010101T000000
TZOFFSETFROM:+0100
TZOFFSETTO:+0100
TZNAME:GMT +01:00
END:STANDARD
END:VTIMEZONE
BEGIN:VEVENT
UID:20260422T150238CEST-2654ZVVLX8@horsealert.local
DTSTAMP:20260422T130438Z
CATEGORIES:Horse Alerts
DESCRIPTION:John & Judith Sanderson Golden Wedding Anniversary Maiden Stake
 s
DTSTART:20160917T172000
LOCATION:England
SUMMARY:Horse Racing:John & Judith Sanderson Golden Wedding Anniversary Mai
 den Stakes
END:VEVENT
END:VCALENDAR
