BEGIN:VCALENDAR
VERSION:2.0
PRODID:-//horsealert.local//NONSGML kigkonsult.se iCalcreator 2.10.5//
CALSCALE:GREGORIAN
X-WR-TIMEZONE:Europe/Dublin
BEGIN:VTIMEZONE
TZID:Etc/GMT-1
BEGIN:STANDARD
DTSTART:20010101T000000
TZOFFSETFROM:+0100
TZOFFSETTO:+0100
TZNAME:GMT +01:00
END:STANDARD
END:VTIMEZONE
BEGIN:VEVENT
UID:20260422T150709CEST-5991DrnI67@horsealert.local
DTSTAMP:20260422T130409Z
CATEGORIES:Horse Alerts
DESCRIPTION:Bapp For Bolts Handicap (Catterick Twelve Furlong Series Final)
DTSTART:20160917T164500
LOCATION:England
SUMMARY:Horse Racing:Bapp For Bolts Handicap (Catterick Twelve Furlong Seri
 es Final)
END:VEVENT
END:VCALENDAR
