BEGIN:VCALENDAR
VERSION:2.0
PRODID:-//horsealert.local//NONSGML kigkonsult.se iCalcreator 2.10.5//
CALSCALE:GREGORIAN
X-WR-TIMEZONE:Europe/Dublin
BEGIN:VTIMEZONE
TZID:Etc/GMT-1
BEGIN:STANDARD
DTSTART:20010101T000000
TZOFFSETFROM:+0100
TZOFFSETTO:+0100
TZNAME:GMT +01:00
END:STANDARD
END:VTIMEZONE
BEGIN:VEVENT
UID:20260422T150936CEST-2875lvvUsk@horsealert.local
DTSTAMP:20260422T130436Z
CATEGORIES:Horse Alerts
DESCRIPTION:Al Maktoum College\, Dundee/British Stallion Studs EBF Maiden S
 takes (Plus 10) (Div 2)
DTSTART:20160916T140000
LOCATION:Scotland
SUMMARY:Horse Racing:Al Maktoum College\, Dundee/British Stallion Studs EBF
  Maiden Stakes (Plus 10) (Div 2)
END:VEVENT
END:VCALENDAR
