BEGIN:VCALENDAR
VERSION:2.0
PRODID:-//horsealert.local//NONSGML kigkonsult.se iCalcreator 2.10.5//
CALSCALE:GREGORIAN
X-WR-TIMEZONE:Europe/Dublin
BEGIN:VTIMEZONE
TZID:Etc/GMT-1
BEGIN:STANDARD
DTSTART:20010101T000000
TZOFFSETFROM:+0100
TZOFFSETTO:+0100
TZNAME:GMT +01:00
END:STANDARD
END:VTIMEZONE
BEGIN:VEVENT
UID:20260422T150512CEST-66130zUStf@horsealert.local
DTSTAMP:20260422T130412Z
CATEGORIES:Horse Alerts
DESCRIPTION:Exchange Inn Ballybunion & Kevin Broderick's Bar Listowel Handi
 cap (45-75)
DTSTART:20160914T135500
LOCATION:Eire
SUMMARY:Horse Racing:Exchange Inn Ballybunion & Kevin Broderick's Bar Listo
 wel Handicap (45-75)
END:VEVENT
END:VCALENDAR
