BEGIN:VCALENDAR
VERSION:2.0
PRODID:-//horsealert.local//NONSGML kigkonsult.se iCalcreator 2.10.5//
CALSCALE:GREGORIAN
X-WR-TIMEZONE:Europe/Dublin
BEGIN:VTIMEZONE
TZID:Etc/GMT-1
BEGIN:STANDARD
DTSTART:20010101T000000
TZOFFSETFROM:+0100
TZOFFSETTO:+0100
TZNAME:GMT +01:00
END:STANDARD
END:VTIMEZONE
BEGIN:VEVENT
UID:20260422T150514CEST-3042dZSzPV@horsealert.local
DTSTAMP:20260422T130414Z
CATEGORIES:Horse Alerts
DESCRIPTION:Jail Dornoch Supporting M.S. Handicap Chase
DTSTART:20160914T180000
LOCATION:Scotland
SUMMARY:Horse Racing:Jail Dornoch Supporting M.S. Handicap Chase
END:VEVENT
END:VCALENDAR
