BEGIN:VCALENDAR
VERSION:2.0
PRODID:-//horsealert.local//NONSGML kigkonsult.se iCalcreator 2.10.5//
CALSCALE:GREGORIAN
X-WR-TIMEZONE:Europe/Dublin
BEGIN:VTIMEZONE
TZID:Etc/GMT-1
BEGIN:STANDARD
DTSTART:20010101T000000
TZOFFSETFROM:+0100
TZOFFSETTO:+0100
TZNAME:GMT +01:00
END:STANDARD
END:VTIMEZONE
BEGIN:VEVENT
UID:20260422T150901CEST-9947E6R29f@horsealert.local
DTSTAMP:20260422T130401Z
CATEGORIES:Horse Alerts
DESCRIPTION:Thirsk Racecourse Ideal Location For Conferences Maiden Auction
  Stakes (Div 1)
DTSTART:20160913T143000
LOCATION:England
SUMMARY:Horse Racing:Thirsk Racecourse Ideal Location For Conferences Maide
 n Auction Stakes (Div 1)
END:VEVENT
END:VCALENDAR
