BEGIN:VCALENDAR
VERSION:2.0
PRODID:-//horsealert.local//NONSGML kigkonsult.se iCalcreator 2.10.5//
CALSCALE:GREGORIAN
X-WR-TIMEZONE:Europe/Dublin
BEGIN:VTIMEZONE
TZID:Etc/GMT-1
BEGIN:STANDARD
DTSTART:20010101T000000
TZOFFSETFROM:+0100
TZOFFSETTO:+0100
TZNAME:GMT +01:00
END:STANDARD
END:VTIMEZONE
BEGIN:VEVENT
UID:20260422T150753CEST-49030wc9NU@horsealert.local
DTSTAMP:20260422T130453Z
CATEGORIES:Horse Alerts
DESCRIPTION:ApolloBet Online Casino & Games Nursery
DTSTART:20160912T143500
LOCATION:England
SUMMARY:Horse Racing:ApolloBet Online Casino & Games Nursery
END:VEVENT
END:VCALENDAR
