BEGIN:VCALENDAR
VERSION:2.0
PRODID:-//horsealert.local//NONSGML kigkonsult.se iCalcreator 2.10.5//
CALSCALE:GREGORIAN
X-WR-TIMEZONE:Europe/Dublin
BEGIN:VTIMEZONE
TZID:Etc/GMT-1
BEGIN:STANDARD
DTSTART:20010101T000000
TZOFFSETFROM:+0100
TZOFFSETTO:+0100
TZNAME:GMT +01:00
END:STANDARD
END:VTIMEZONE
BEGIN:VEVENT
UID:20260422T150705CEST-6930gUU1Nf@horsealert.local
DTSTAMP:20260422T130405Z
CATEGORIES:Horse Alerts
DESCRIPTION:toteexacta Forecast The 1st And 2nd Maiden Auction Stakes
DTSTART:20160911T142000
LOCATION:England
SUMMARY:Horse Racing:toteexacta Forecast The 1st And 2nd Maiden Auction Sta
 kes
END:VEVENT
END:VCALENDAR
