BEGIN:VCALENDAR
VERSION:2.0
PRODID:-//horsealert.local//NONSGML kigkonsult.se iCalcreator 2.10.5//
CALSCALE:GREGORIAN
X-WR-TIMEZONE:Europe/Dublin
BEGIN:VTIMEZONE
TZID:Etc/GMT-1
BEGIN:STANDARD
DTSTART:20010101T000000
TZOFFSETFROM:+0100
TZOFFSETTO:+0100
TZNAME:GMT +01:00
END:STANDARD
END:VTIMEZONE
BEGIN:VEVENT
UID:20260422T150343CEST-4651IE075r@horsealert.local
DTSTAMP:20260422T130443Z
CATEGORIES:Horse Alerts
DESCRIPTION:Control Developments Handicap (Summer Sprint Series Final)
DTSTART:20160911T151500
LOCATION:England
SUMMARY:Horse Racing:Control Developments Handicap (Summer Sprint Series Fi
 nal)
END:VEVENT
END:VCALENDAR
