BEGIN:VCALENDAR
VERSION:2.0
PRODID:-//horsealert.local//NONSGML kigkonsult.se iCalcreator 2.10.5//
CALSCALE:GREGORIAN
X-WR-TIMEZONE:Europe/Dublin
BEGIN:VTIMEZONE
TZID:Etc/GMT-1
BEGIN:STANDARD
DTSTART:20010101T000000
TZOFFSETFROM:+0100
TZOFFSETTO:+0100
TZNAME:GMT +01:00
END:STANDARD
END:VTIMEZONE
BEGIN:VEVENT
UID:20260422T150942CEST-8168u37XFP@horsealert.local
DTSTAMP:20260422T130442Z
CATEGORIES:Horse Alerts
DESCRIPTION:Harriet De-Vere Powell Handicap
DTSTART:20160910T180000
LOCATION:England
SUMMARY:Horse Racing:Harriet De-Vere Powell Handicap
END:VEVENT
END:VCALENDAR
