BEGIN:VCALENDAR
VERSION:2.0
PRODID:-//horsealert.local//NONSGML kigkonsult.se iCalcreator 2.10.5//
CALSCALE:GREGORIAN
X-WR-TIMEZONE:Europe/Dublin
BEGIN:VTIMEZONE
TZID:Etc/GMT-1
BEGIN:STANDARD
DTSTART:20010101T000000
TZOFFSETFROM:+0100
TZOFFSETTO:+0100
TZNAME:GMT +01:00
END:STANDARD
END:VTIMEZONE
BEGIN:VEVENT
UID:20260422T150932CEST-8829PMvjvG@horsealert.local
DTSTAMP:20260422T130432Z
CATEGORIES:Horse Alerts
DESCRIPTION:Rainbow Casino Cardiff Fillies' Handicap
DTSTART:20160910T180500
LOCATION:England
SUMMARY:Horse Racing:Rainbow Casino Cardiff Fillies' Handicap
END:VEVENT
END:VCALENDAR
