BEGIN:VCALENDAR
VERSION:2.0
PRODID:-//horsealert.local//NONSGML kigkonsult.se iCalcreator 2.10.5//
CALSCALE:GREGORIAN
X-WR-TIMEZONE:Europe/Dublin
BEGIN:VTIMEZONE
TZID:Etc/GMT-1
BEGIN:STANDARD
DTSTART:20010101T000000
TZOFFSETFROM:+0100
TZOFFSETTO:+0100
TZNAME:GMT +01:00
END:STANDARD
END:VTIMEZONE
BEGIN:VEVENT
UID:20260422T150534CEST-34674dsP9E@horsealert.local
DTSTAMP:20260422T130434Z
CATEGORIES:Horse Alerts
DESCRIPTION:Winner Event Services Jump Jockeys Derby Handicap (To Be Ridden
  By Professional Jump Jockeys)
DTSTART:20160908T155000
LOCATION:England
SUMMARY:Horse Racing:Winner Event Services Jump Jockeys Derby Handicap (To 
 Be Ridden By Professional Jump Jockeys)
END:VEVENT
END:VCALENDAR
