BEGIN:VCALENDAR
VERSION:2.0
PRODID:-//horsealert.local//NONSGML kigkonsult.se iCalcreator 2.10.5//
CALSCALE:GREGORIAN
X-WR-TIMEZONE:Europe/Dublin
BEGIN:VTIMEZONE
TZID:Etc/GMT-1
BEGIN:STANDARD
DTSTART:20010101T000000
TZOFFSETFROM:+0100
TZOFFSETTO:+0100
TZNAME:GMT +01:00
END:STANDARD
END:VTIMEZONE
BEGIN:VEVENT
UID:20260422T150341CEST-0072f6UaX6@horsealert.local
DTSTAMP:20260422T130440Z
CATEGORIES:Horse Alerts
DESCRIPTION:Stablesoft-Europe Equestrian Surfaces Nursery
DTSTART:20160908T145000
LOCATION:Wales
SUMMARY:Horse Racing:Stablesoft-Europe Equestrian Surfaces Nursery
END:VEVENT
END:VCALENDAR
