BEGIN:VCALENDAR
VERSION:2.0
PRODID:-//horsealert.local//NONSGML kigkonsult.se iCalcreator 2.10.5//
CALSCALE:GREGORIAN
X-WR-TIMEZONE:Europe/Dublin
BEGIN:VTIMEZONE
TZID:Etc/GMT-1
BEGIN:STANDARD
DTSTART:20010101T000000
TZOFFSETFROM:+0100
TZOFFSETTO:+0100
TZNAME:GMT +01:00
END:STANDARD
END:VTIMEZONE
BEGIN:VEVENT
UID:20260422T150422CEST-8063mVo8gH@horsealert.local
DTSTAMP:20260422T130422Z
CATEGORIES:Horse Alerts
DESCRIPTION:Harringtons Lettings - Official Grandstand Sponsor Apprentice H
 andicap
DTSTART:20160905T170000
LOCATION:England
SUMMARY:Horse Racing:Harringtons Lettings - Official Grandstand Sponsor App
 rentice Handicap
END:VEVENT
END:VCALENDAR
