BEGIN:VCALENDAR
VERSION:2.0
PRODID:-//horsealert.local//NONSGML kigkonsult.se iCalcreator 2.10.5//
CALSCALE:GREGORIAN
X-WR-TIMEZONE:Europe/Dublin
BEGIN:VTIMEZONE
TZID:Etc/GMT-1
BEGIN:STANDARD
DTSTART:20010101T000000
TZOFFSETFROM:+0100
TZOFFSETTO:+0100
TZNAME:GMT +01:00
END:STANDARD
END:VTIMEZONE
BEGIN:VEVENT
UID:20260422T150752CEST-8594amcVCs@horsealert.local
DTSTAMP:20260422T130452Z
CATEGORIES:Horse Alerts
DESCRIPTION:EBF Stallions Jenny Roberts Original British Millinery Maiden F
 illies' Stakes
DTSTART:20160903T173500
LOCATION:England
SUMMARY:Horse Racing:EBF Stallions Jenny Roberts Original British Millinery
  Maiden Fillies' Stakes
END:VEVENT
END:VCALENDAR
