BEGIN:VCALENDAR
VERSION:2.0
PRODID:-//horsealert.local//NONSGML kigkonsult.se iCalcreator 2.10.5//
CALSCALE:GREGORIAN
X-WR-TIMEZONE:Europe/Dublin
BEGIN:VTIMEZONE
TZID:Etc/GMT-1
BEGIN:STANDARD
DTSTART:20010101T000000
TZOFFSETFROM:+0100
TZOFFSETTO:+0100
TZNAME:GMT +01:00
END:STANDARD
END:VTIMEZONE
BEGIN:VEVENT
UID:20260422T150418CEST-3481TddUBD@horsealert.local
DTSTAMP:20260422T130418Z
CATEGORIES:Horse Alerts
DESCRIPTION:Like Kilbeggan Races On Facebook Handicap Hurdle (80-109)
DTSTART:20160902T171000
LOCATION:Eire
SUMMARY:Horse Racing:Like Kilbeggan Races On Facebook Handicap Hurdle (80-1
 09)
END:VEVENT
END:VCALENDAR
