BEGIN:VCALENDAR
VERSION:2.0
PRODID:-//horsealert.local//NONSGML kigkonsult.se iCalcreator 2.10.5//
CALSCALE:GREGORIAN
X-WR-TIMEZONE:Europe/Dublin
BEGIN:VTIMEZONE
TZID:Etc/GMT-1
BEGIN:STANDARD
DTSTART:20010101T000000
TZOFFSETFROM:+0100
TZOFFSETTO:+0100
TZNAME:GMT +01:00
END:STANDARD
END:VTIMEZONE
BEGIN:VEVENT
UID:20260422T150238CEST-1009V9LixH@horsealert.local
DTSTAMP:20260422T130438Z
CATEGORIES:Horse Alerts
DESCRIPTION:Best Odds Guaranteed At 188Bet Handicap (Gentleman Amateur Ride
 rs )
DTSTART:20160901T170000
LOCATION:England
SUMMARY:Horse Racing:Best Odds Guaranteed At 188Bet Handicap (Gentleman Ama
 teur Riders )
END:VEVENT
END:VCALENDAR
