BEGIN:VCALENDAR
VERSION:2.0
PRODID:-//horsealert.local//NONSGML kigkonsult.se iCalcreator 2.10.5//
CALSCALE:GREGORIAN
X-WR-TIMEZONE:Europe/Dublin
BEGIN:VTIMEZONE
TZID:Etc/GMT-1
BEGIN:STANDARD
DTSTART:20010101T000000
TZOFFSETFROM:+0100
TZOFFSETTO:+0100
TZNAME:GMT +01:00
END:STANDARD
END:VTIMEZONE
BEGIN:VEVENT
UID:20260422T164618CEST-6057UU9E6g@horsealert.local
DTSTAMP:20260422T140418Z
CATEGORIES:Horse Alerts
DESCRIPTION:Warren Handicap (Jockey Club Grassroots Flat Middle Distance Se
 ries Qualifier)
DTSTART:20160830T162000
LOCATION:England
SUMMARY:Horse Racing:Warren Handicap (Jockey Club Grassroots Flat Middle Di
 stance Series Qualifier)
END:VEVENT
END:VCALENDAR
