BEGIN:VCALENDAR
VERSION:2.0
PRODID:-//horsealert.local//NONSGML kigkonsult.se iCalcreator 2.10.5//
CALSCALE:GREGORIAN
X-WR-TIMEZONE:Europe/Dublin
BEGIN:VTIMEZONE
TZID:Etc/GMT-1
BEGIN:STANDARD
DTSTART:20010101T000000
TZOFFSETFROM:+0100
TZOFFSETTO:+0100
TZNAME:GMT +01:00
END:STANDARD
END:VTIMEZONE
BEGIN:VEVENT
UID:20260422T164615CEST-1423CvXhmH@horsealert.local
DTSTAMP:20260422T140415Z
CATEGORIES:Horse Alerts
DESCRIPTION:Downe Travel & Best Dressed Lady Win A Luxury Trip To New York 
 Handicap Hurdle
DTSTART:20160829T161000
LOCATION:Northern Ireland
SUMMARY:Horse Racing:Downe Travel & Best Dressed Lady Win A Luxury Trip To 
 New York Handicap Hurdle
END:VEVENT
END:VCALENDAR
