BEGIN:VCALENDAR
VERSION:2.0
PRODID:-//horsealert.local//NONSGML kigkonsult.se iCalcreator 2.10.5//
CALSCALE:GREGORIAN
X-WR-TIMEZONE:Europe/Dublin
BEGIN:VTIMEZONE
TZID:Etc/GMT-1
BEGIN:STANDARD
DTSTART:20010101T000000
TZOFFSETFROM:+0100
TZOFFSETTO:+0100
TZNAME:GMT +01:00
END:STANDARD
END:VTIMEZONE
BEGIN:VEVENT
UID:20260422T164721CEST-8321cUKzmW@horsealert.local
DTSTAMP:20260422T140421Z
CATEGORIES:Horse Alerts
DESCRIPTION:Oakgrove Stud Supports Chepstow Mencap EBF Median Auction Maide
 n Fillies' Stakes (Plus 10)
DTSTART:20160829T123000
LOCATION:Wales
SUMMARY:Horse Racing:Oakgrove Stud Supports Chepstow Mencap EBF Median Auct
 ion Maiden Fillies' Stakes (Plus 10)
END:VEVENT
END:VCALENDAR
