BEGIN:VCALENDAR
VERSION:2.0
PRODID:-//horsealert.local//NONSGML kigkonsult.se iCalcreator 2.10.5//
CALSCALE:GREGORIAN
X-WR-TIMEZONE:Europe/Dublin
BEGIN:VTIMEZONE
TZID:Etc/GMT-1
BEGIN:STANDARD
DTSTART:20010101T000000
TZOFFSETFROM:+0100
TZOFFSETTO:+0100
TZNAME:GMT +01:00
END:STANDARD
END:VTIMEZONE
BEGIN:VEVENT
UID:20260422T164923CEST-0176JMkPL0@horsealert.local
DTSTAMP:20260422T140423Z
CATEGORIES:Horse Alerts
DESCRIPTION:Casinodeauville Maiden Stakes - AWT
DTSTART:20160828T125000
LOCATION:France
SUMMARY:Horse Racing:Casinodeauville Maiden Stakes - AWT
END:VEVENT
END:VCALENDAR
