BEGIN:VCALENDAR
VERSION:2.0
PRODID:-//horsealert.local//NONSGML kigkonsult.se iCalcreator 2.10.5//
CALSCALE:GREGORIAN
X-WR-TIMEZONE:Europe/Dublin
BEGIN:VTIMEZONE
TZID:Etc/GMT-1
BEGIN:STANDARD
DTSTART:20010101T000000
TZOFFSETFROM:+0100
TZOFFSETTO:+0100
TZNAME:GMT +01:00
END:STANDARD
END:VTIMEZONE
BEGIN:VEVENT
UID:20260422T164932CEST-7511t6IzxI@horsealert.local
DTSTAMP:20260422T140432Z
CATEGORIES:Horse Alerts
DESCRIPTION:Goodwood Amateur Rider Challenge Handicap (In Memory Of The Lat
 e Gay Kindersley)
DTSTART:20160828T154500
LOCATION:England
SUMMARY:Horse Racing:Goodwood Amateur Rider Challenge Handicap (In Memory O
 f The Late Gay Kindersley)
END:VEVENT
END:VCALENDAR
