BEGIN:VCALENDAR
VERSION:2.0
PRODID:-//horsealert.local//NONSGML kigkonsult.se iCalcreator 2.10.5//
CALSCALE:GREGORIAN
X-WR-TIMEZONE:Europe/Dublin
BEGIN:VTIMEZONE
TZID:Etc/GMT-1
BEGIN:STANDARD
DTSTART:20010101T000000
TZOFFSETFROM:+0100
TZOFFSETTO:+0100
TZNAME:GMT +01:00
END:STANDARD
END:VTIMEZONE
BEGIN:VEVENT
UID:20260422T164612CEST-8803osuUFD@horsealert.local
DTSTAMP:20260422T140412Z
CATEGORIES:Horse Alerts
DESCRIPTION:EWGA Racing Excellence 'Hands And Heels' Handicap Hurdle (Condi
 tional Jockeys And Amateur Riders)
DTSTART:20160827T174500
LOCATION:England
SUMMARY:Horse Racing:EWGA Racing Excellence 'Hands And Heels' Handicap Hurd
 le (Conditional Jockeys And Amateur Riders)
END:VEVENT
END:VCALENDAR
